BEGIN:VCALENDAR
VERSION:2.0
PRODID:Fort Bend County, TX Calendar Creator
METHOD:PUBLISH
BEGIN:VEVENT
DTSTAMP:20211129T084732
DTSTART:20191203T100000
DTEND:20191203T040000
SUMMARY:Waterview Estates Owners Association, Inc. Vs James Wayne Burnley, and Jenniffer Burnley
DESCRIPTION:<p align="LEFT">Under and by virtue of an Order of Sale issued on the <strong>7th</strong> day of <strong>October, 2019 </strong>by the <strong>240th</strong> Judicial District Court of Fort Bend Coun
CLASS:PUBLIC
END:VEVENT
END:VCALENDAR
